BEGIN:VCALENDAR
VERSION:2.0
PRODID:-//eventon.com NONSGML v1.0//EN
CALSCALE:GREGORIAN
METHOD:PUBLISH
BEGIN:VEVENT
UID:69e73f654fe2c
DTSTAMP:20260421T091205Z
DTSTART:20231208T170000Z
DTEND:20231210T220000Z
LOCATION:Faneuil Hall 4 S Market St
SUMMARY:Boston Women's Holiday Market at Faneuil Hall (Dec 8-10)
DESCRIPTION:Boston Women's Holiday Market at Faneuil Hall (Dec 8-10)\nhttps
 ://theelchemist.com/events/boston-womens-holiday-market-at-faneuil-hall/
URL:https://theelchemist.com/events/boston-womens-holiday-market-at-faneuil-hall/
END:VEVENT
END:VCALENDAR