BEGIN:VCALENDAR
VERSION:2.0
PRODID:-//eventon.com NONSGML v1.0//EN
CALSCALE:GREGORIAN
METHOD:PUBLISH
BEGIN:VEVENT
UID:69e88e55cf5ff
DTSTAMP:20260422T090109Z
DTSTART:20240512T160000Z
DTEND:20240512T210000Z
LOCATION:Charles River Speedway 525 Western Ave
SUMMARY:Boston Women's Market Spring Makers Celebration
DESCRIPTION:Boston Women's Market Spring Makers Celebration\nhttps://theelc
 hemist.com/events/boston-womens-market-spring-makers-celebration/
URL:https://theelchemist.com/events/boston-womens-market-spring-makers-celebration/
END:VEVENT
END:VCALENDAR